BEGIN:VCALENDAR
VERSION:2.0
PRODID:-//Echo Chicago - ECPv6.2.9//NONSGML v1.0//EN
CALSCALE:GREGORIAN
METHOD:PUBLISH
X-ORIGINAL-URL:https://www.echo-chicago.org
X-WR-CALDESC:Events for Echo Chicago
REFRESH-INTERVAL;VALUE=DURATION:PT1H
X-Robots-Tag:noindex
X-PUBLISHED-TTL:PT1H
BEGIN:VTIMEZONE
TZID:America/Chicago
BEGIN:DAYLIGHT
TZOFFSETFROM:-0600
TZOFFSETTO:-0500
TZNAME:CDT
DTSTART:20260308T080000
END:DAYLIGHT
BEGIN:STANDARD
TZOFFSETFROM:-0500
TZOFFSETTO:-0600
TZNAME:CST
DTSTART:20261101T070000
END:STANDARD
END:VTIMEZONE
BEGIN:VEVENT
DTSTART;TZID=America/Chicago:20260401T080000
DTEND;TZID=America/Chicago:20260401T090000
DTSTAMP:20260422T130237
CREATED:20251222T163009Z
LAST-MODIFIED:20251222T163106Z
UID:16078-1775030400-1775034000@www.echo-chicago.org
SUMMARY:Common Pediatric Problems in Schools
DESCRIPTION:
URL:https://www.echo-chicago.org/event/peds-schools-2/2026-04-01/
CATEGORIES:Common Pediatric Problems in Schools
END:VEVENT
BEGIN:VEVENT
DTSTART;TZID=America/Chicago:20260401T080000
DTEND;TZID=America/Chicago:20260401T090000
DTSTAMP:20260422T130237
CREATED:20260212T152700Z
LAST-MODIFIED:20260212T152716Z
UID:16686-1775030400-1775034000@www.echo-chicago.org
SUMMARY:Child & Adolescent Behavioral Health
DESCRIPTION:
URL:https://www.echo-chicago.org/event/child-adolescent-behavioral-health-4/2026-04-01/
CATEGORIES:Child & Adolescent Behavioral Health
END:VEVENT
BEGIN:VEVENT
DTSTART;TZID=America/Chicago:20260401T080000
DTEND;TZID=America/Chicago:20260401T090000
DTSTAMP:20260422T130237
CREATED:20260304T172128Z
LAST-MODIFIED:20260304T172128Z
UID:16859-1775030400-1775034000@www.echo-chicago.org
SUMMARY:Pediatric Allergy & Asthma
DESCRIPTION:
URL:https://www.echo-chicago.org/event/pediatric-allergy-asthma-3/
CATEGORIES:Complex Pediatric Asthma,Series Launches
END:VEVENT
BEGIN:VEVENT
DTSTART;TZID=America/Chicago:20260401T080000
DTEND;TZID=America/Chicago:20260401T090000
DTSTAMP:20260422T130237
CREATED:20260304T172217Z
LAST-MODIFIED:20260304T172231Z
UID:16861-1775030400-1775034000@www.echo-chicago.org
SUMMARY:Pediatric Allergy & Asthma
DESCRIPTION:
URL:https://www.echo-chicago.org/event/pediatric-allergy-asthma-4/2026-04-01/
CATEGORIES:Complex Pediatric Asthma
END:VEVENT
BEGIN:VEVENT
DTSTART;TZID=America/Chicago:20260401T120000
DTEND;TZID=America/Chicago:20260401T130000
DTSTAMP:20260422T130237
CREATED:20260304T172709Z
LAST-MODIFIED:20260304T172753Z
UID:16901-1775044800-1775048400@www.echo-chicago.org
SUMMARY:Long-COVID
DESCRIPTION:
URL:https://www.echo-chicago.org/event/long-covid-3/2026-04-01/
CATEGORIES:Long-COVID
END:VEVENT
END:VCALENDAR