BEGIN:VCALENDAR
VERSION:2.0
PRODID:-//Echo Chicago - ECPv6.2.9//NONSGML v1.0//EN
CALSCALE:GREGORIAN
METHOD:PUBLISH
X-ORIGINAL-URL:https://www.echo-chicago.org
X-WR-CALDESC:Events for Echo Chicago
REFRESH-INTERVAL;VALUE=DURATION:PT1H
X-Robots-Tag:noindex
X-PUBLISHED-TTL:PT1H
BEGIN:VTIMEZONE
TZID:America/Chicago
BEGIN:DAYLIGHT
TZOFFSETFROM:-0600
TZOFFSETTO:-0500
TZNAME:CDT
DTSTART:20200308T080000
END:DAYLIGHT
BEGIN:STANDARD
TZOFFSETFROM:-0500
TZOFFSETTO:-0600
TZNAME:CST
DTSTART:20201101T070000
END:STANDARD
END:VTIMEZONE
BEGIN:VEVENT
DTSTART;TZID=America/Chicago:20201109T150000
DTEND;TZID=America/Chicago:20201109T163000
DTSTAMP:20260421T071152
CREATED:20210210T230626Z
LAST-MODIFIED:20210210T230626Z
UID:8386-1604934000-1604939400@www.echo-chicago.org
SUMMARY:AHRQ ECHO National Nursing Home COVID Action Network - Mondays
DESCRIPTION:
URL:https://www.echo-chicago.org/event/ahrq-echo-national-nursing-home-covid-action-network-mondays/2020-11-09/
CATEGORIES:AHRQ ECHO National Nursing Home COVID-19 Action Network
END:VEVENT
BEGIN:VEVENT
DTSTART;TZID=America/Chicago:20201110T120000
DTEND;TZID=America/Chicago:20201110T133000
DTSTAMP:20260421T071152
CREATED:20210210T230738Z
LAST-MODIFIED:20210210T230738Z
UID:8406-1605009600-1605015000@www.echo-chicago.org
SUMMARY:AHRQ ECHO National Nursing Home COVID Action Network - Tuesdays
DESCRIPTION:
URL:https://www.echo-chicago.org/event/ahrq-echo-national-nursing-home-covid-action-network-tuesdays/2020-11-10/
CATEGORIES:AHRQ ECHO National Nursing Home COVID-19 Action Network
END:VEVENT
BEGIN:VEVENT
DTSTART;TZID=America/Chicago:20201111T090000
DTEND;TZID=America/Chicago:20201111T103000
DTSTAMP:20260421T071152
CREATED:20210210T230841Z
LAST-MODIFIED:20210210T230841Z
UID:8427-1605085200-1605090600@www.echo-chicago.org
SUMMARY:AHRQ ECHO National Nursing Home COVID Action Network - Wednesdays at 9AM
DESCRIPTION:
URL:https://www.echo-chicago.org/event/ahrq-echo-national-nursing-home-covid-action-network-wednesdays-at-9am/2020-11-11/
CATEGORIES:AHRQ ECHO National Nursing Home COVID-19 Action Network
END:VEVENT
BEGIN:VEVENT
DTSTART;TZID=America/Chicago:20201111T120000
DTEND;TZID=America/Chicago:20201111T133000
DTSTAMP:20260421T071152
CREATED:20210210T231112Z
LAST-MODIFIED:20210210T231112Z
UID:8447-1605096000-1605101400@www.echo-chicago.org
SUMMARY:AHRQ ECHO National Nursing Home COVID Action Network - Wednesdays at 12PM
DESCRIPTION:
URL:https://www.echo-chicago.org/event/ahrq-echo-national-nursing-home-covid-action-network-wednesdays-at-12pm/2020-11-11/
CATEGORIES:AHRQ ECHO National Nursing Home COVID-19 Action Network
END:VEVENT
BEGIN:VEVENT
DTSTART;TZID=America/Chicago:20201112T120000
DTEND;TZID=America/Chicago:20201112T133000
DTSTAMP:20260421T071152
CREATED:20210210T230527Z
LAST-MODIFIED:20210210T230527Z
UID:8366-1605182400-1605187800@www.echo-chicago.org
SUMMARY:AHRQ ECHO National Nursing Home COVID Action Network – Thursdays at 12PM
DESCRIPTION:
URL:https://www.echo-chicago.org/event/ahrq-echo-national-nursing-home-covid-action-network-thursdays-at-12pm/2020-11-12/
CATEGORIES:AHRQ ECHO National Nursing Home COVID-19 Action Network
END:VEVENT
BEGIN:VEVENT
DTSTART;TZID=America/Chicago:20201112T150000
DTEND;TZID=America/Chicago:20201112T163000
DTSTAMP:20260421T071152
CREATED:20210210T230212Z
LAST-MODIFIED:20210210T230323Z
UID:8325-1605193200-1605198600@www.echo-chicago.org
SUMMARY:AHRQ ECHO National Nursing Home COVID Action Network - Thursdays at 3PM
DESCRIPTION:
URL:https://www.echo-chicago.org/event/ahrq-echo-national-nursing-home-covid-action-network-thursdays-at-3pm/2020-11-12/
CATEGORIES:AHRQ ECHO National Nursing Home COVID-19 Action Network
END:VEVENT
END:VCALENDAR