BEGIN:VCALENDAR
VERSION:2.0
PRODID:-//Echo Chicago - ECPv6.2.9//NONSGML v1.0//EN
CALSCALE:GREGORIAN
METHOD:PUBLISH
X-ORIGINAL-URL:https://www.echo-chicago.org
X-WR-CALDESC:Events for Echo Chicago
REFRESH-INTERVAL;VALUE=DURATION:PT1H
X-Robots-Tag:noindex
X-PUBLISHED-TTL:PT1H
BEGIN:VTIMEZONE
TZID:America/Chicago
BEGIN:DAYLIGHT
TZOFFSETFROM:-0600
TZOFFSETTO:-0500
TZNAME:CDT
DTSTART:20210314T080000
END:DAYLIGHT
BEGIN:STANDARD
TZOFFSETFROM:-0500
TZOFFSETTO:-0600
TZNAME:CST
DTSTART:20211107T070000
END:STANDARD
END:VTIMEZONE
BEGIN:VEVENT
DTSTART;TZID=America/Chicago:20210310T150000
DTEND;TZID=America/Chicago:20210310T163000
DTSTAMP:20260421T010036
CREATED:20210309T145425Z
LAST-MODIFIED:20210309T145425Z
UID:8699-1615388400-1615393800@www.echo-chicago.org
SUMMARY:AHRQ ECHO National Nursing Home COVID Action Network – Wednesdays at 3PM
DESCRIPTION:
URL:https://www.echo-chicago.org/event/ahrq-echo-national-nursing-home-covid-action-network-wednesdays-at-3pm/2021-03-10/
CATEGORIES:AHRQ ECHO National Nursing Home COVID-19 Action Network
END:VEVENT
BEGIN:VEVENT
DTSTART;TZID=America/Chicago:20210312T120000
DTEND;TZID=America/Chicago:20210312T133000
DTSTAMP:20260421T010036
CREATED:20210309T145517Z
LAST-MODIFIED:20210309T145517Z
UID:8716-1615550400-1615555800@www.echo-chicago.org
SUMMARY:AHRQ ECHO National Nursing Home COVID Action Network – Fridays at 12PM
DESCRIPTION:
URL:https://www.echo-chicago.org/event/ahrq-echo-national-nursing-home-covid-action-network-fridays-at-12pm/2021-03-12/
CATEGORIES:AHRQ ECHO National Nursing Home COVID-19 Action Network
END:VEVENT
END:VCALENDAR