BEGIN:VCALENDAR
VERSION:2.0
PRODID:-//Echo Chicago - ECPv6.2.9//NONSGML v1.0//EN
CALSCALE:GREGORIAN
METHOD:PUBLISH
X-WR-CALNAME:Echo Chicago
X-ORIGINAL-URL:https://www.echo-chicago.org
X-WR-CALDESC:Events for Echo Chicago
REFRESH-INTERVAL;VALUE=DURATION:PT1H
X-Robots-Tag:noindex
X-PUBLISHED-TTL:PT1H
BEGIN:VTIMEZONE
TZID:America/Chicago
BEGIN:DAYLIGHT
TZOFFSETFROM:-0600
TZOFFSETTO:-0500
TZNAME:CDT
DTSTART:20210314T080000
END:DAYLIGHT
BEGIN:STANDARD
TZOFFSETFROM:-0500
TZOFFSETTO:-0600
TZNAME:CST
DTSTART:20211107T070000
END:STANDARD
END:VTIMEZONE
BEGIN:VEVENT
DTSTART;TZID=America/Chicago:20211117T173000
DTEND;TZID=America/Chicago:20211117T184500
DTSTAMP:20260420T111307
CREATED:20211028T180150Z
LAST-MODIFIED:20211028T180150Z
UID:10273-1637170200-1637174700@www.echo-chicago.org
SUMMARY:COVID-19 In Adult Populations
DESCRIPTION:Infectious Disease Specialists\, Drs. Anu Hazra & Jen Pisano will be discussing epidemiology and vaccine updates at this session along with case scenarios submitted by the participants. Registration is required! \nRegistration link 
URL:https://www.echo-chicago.org/event/covid-19-in-adult-populations-2/2021-11-17/
CATEGORIES:COVID-19 In Adult Populations (IVAC)
END:VEVENT
END:VCALENDAR