BEGIN:VCALENDAR
VERSION:2.0
PRODID:-//Echo Chicago - ECPv6.2.9//NONSGML v1.0//EN
CALSCALE:GREGORIAN
METHOD:PUBLISH
X-WR-CALNAME:Echo Chicago
X-ORIGINAL-URL:https://www.echo-chicago.org
X-WR-CALDESC:Events for Echo Chicago
REFRESH-INTERVAL;VALUE=DURATION:PT1H
X-Robots-Tag:noindex
X-PUBLISHED-TTL:PT1H
BEGIN:VTIMEZONE
TZID:America/Chicago
BEGIN:DAYLIGHT
TZOFFSETFROM:-0600
TZOFFSETTO:-0500
TZNAME:CDT
DTSTART:20190310T080000
END:DAYLIGHT
BEGIN:STANDARD
TZOFFSETFROM:-0500
TZOFFSETTO:-0600
TZNAME:CST
DTSTART:20191103T070000
END:STANDARD
BEGIN:DAYLIGHT
TZOFFSETFROM:-0600
TZOFFSETTO:-0500
TZNAME:CDT
DTSTART:20200308T080000
END:DAYLIGHT
BEGIN:STANDARD
TZOFFSETFROM:-0500
TZOFFSETTO:-0600
TZNAME:CST
DTSTART:20201101T070000
END:STANDARD
BEGIN:DAYLIGHT
TZOFFSETFROM:-0600
TZOFFSETTO:-0500
TZNAME:CDT
DTSTART:20210314T080000
END:DAYLIGHT
BEGIN:STANDARD
TZOFFSETFROM:-0500
TZOFFSETTO:-0600
TZNAME:CST
DTSTART:20211107T070000
END:STANDARD
BEGIN:DAYLIGHT
TZOFFSETFROM:-0600
TZOFFSETTO:-0500
TZNAME:CDT
DTSTART:20220313T080000
END:DAYLIGHT
BEGIN:STANDARD
TZOFFSETFROM:-0500
TZOFFSETTO:-0600
TZNAME:CST
DTSTART:20221106T070000
END:STANDARD
BEGIN:DAYLIGHT
TZOFFSETFROM:-0600
TZOFFSETTO:-0500
TZNAME:CDT
DTSTART:20230312T080000
END:DAYLIGHT
BEGIN:STANDARD
TZOFFSETFROM:-0500
TZOFFSETTO:-0600
TZNAME:CST
DTSTART:20231105T070000
END:STANDARD
BEGIN:DAYLIGHT
TZOFFSETFROM:-0600
TZOFFSETTO:-0500
TZNAME:CDT
DTSTART:20240310T080000
END:DAYLIGHT
BEGIN:STANDARD
TZOFFSETFROM:-0500
TZOFFSETTO:-0600
TZNAME:CST
DTSTART:20241103T070000
END:STANDARD
BEGIN:DAYLIGHT
TZOFFSETFROM:-0600
TZOFFSETTO:-0500
TZNAME:CDT
DTSTART:20250309T080000
END:DAYLIGHT
BEGIN:STANDARD
TZOFFSETFROM:-0500
TZOFFSETTO:-0600
TZNAME:CST
DTSTART:20251102T070000
END:STANDARD
BEGIN:DAYLIGHT
TZOFFSETFROM:-0600
TZOFFSETTO:-0500
TZNAME:CDT
DTSTART:20260308T080000
END:DAYLIGHT
BEGIN:STANDARD
TZOFFSETFROM:-0500
TZOFFSETTO:-0600
TZNAME:CST
DTSTART:20261101T070000
END:STANDARD
END:VTIMEZONE
BEGIN:VEVENT
DTSTART;TZID=America/Chicago:20260413T080000
DTEND;TZID=America/Chicago:20260413T090000
DTSTAMP:20260420T050343
CREATED:20260212T151317Z
LAST-MODIFIED:20260212T151351Z
UID:16637-1776067200-1776070800@www.echo-chicago.org
SUMMARY:Women’s Health: Practical Care Including Menopause
DESCRIPTION:
URL:https://www.echo-chicago.org/event/womens-health-practical-care-including-menopause-2/2026-04-13/
CATEGORIES:Women’s Health: Practical Care Including Menopause
END:VEVENT
BEGIN:VEVENT
DTSTART;TZID=America/Chicago:20260406T080000
DTEND;TZID=America/Chicago:20260406T210000
DTSTAMP:20260420T050343
CREATED:20260212T151219Z
LAST-MODIFIED:20260212T151219Z
UID:16634-1775462400-1775509200@www.echo-chicago.org
SUMMARY:Women’s Health: Practical Care Including Menopause
DESCRIPTION:
URL:https://www.echo-chicago.org/event/womens-health-practical-care-including-menopause/
CATEGORIES:Series Launches,Women’s Health: Practical Care Including Menopause
END:VEVENT
BEGIN:VEVENT
DTSTART;TZID=America/Chicago:20260406T080000
DTEND;TZID=America/Chicago:20260406T090000
DTSTAMP:20260420T050343
CREATED:20260212T151317Z
LAST-MODIFIED:20260212T151351Z
UID:16636-1775462400-1775466000@www.echo-chicago.org
SUMMARY:Women’s Health: Practical Care Including Menopause
DESCRIPTION:
URL:https://www.echo-chicago.org/event/womens-health-practical-care-including-menopause-2/2026-04-06/
CATEGORIES:Women’s Health: Practical Care Including Menopause
END:VEVENT
BEGIN:VEVENT
DTSTART;TZID=America/Chicago:20210331T080000
DTEND;TZID=America/Chicago:20210331T090000
DTSTAMP:20260420T050343
CREATED:20210419T170000Z
LAST-MODIFIED:20210419T170000Z
UID:9112-1617177600-1617181200@www.echo-chicago.org
SUMMARY:Women’s Health: Reducing Disparities
DESCRIPTION:
URL:https://www.echo-chicago.org/event/womens-health-reducing-disparities/2021-03-31/
CATEGORIES:Women’s Health: Practical Care Including Menopause
END:VEVENT
BEGIN:VEVENT
DTSTART;TZID=America/Chicago:20200422T080000
DTEND;TZID=America/Chicago:20200422T090000
DTSTAMP:20260420T050343
CREATED:20200402T175501Z
LAST-MODIFIED:20200402T175529Z
UID:6081-1587542400-1587546000@www.echo-chicago.org
SUMMARY:Women’s Health: A Multidisciplinary Approach to Complex Care
DESCRIPTION:
URL:https://www.echo-chicago.org/event/wh-2-2/2020-04-22/
CATEGORIES:Women’s Health: Practical Care Including Menopause
END:VEVENT
BEGIN:VEVENT
DTSTART;TZID=America/Chicago:20200422T080000
DTEND;TZID=America/Chicago:20200422T090000
DTSTAMP:20260420T050343
CREATED:20200402T175336Z
LAST-MODIFIED:20200402T175406Z
UID:6079-1587542400-1587546000@www.echo-chicago.org
SUMMARY:Women’s Health: A Multidisciplinary Approach to Complex Care
DESCRIPTION:
URL:https://www.echo-chicago.org/event/wh-2/
CATEGORIES:Series Launches,Women’s Health: Practical Care Including Menopause
END:VEVENT
BEGIN:VEVENT
DTSTART;TZID=America/Chicago:20190918T080000
DTEND;TZID=America/Chicago:20190918T090000
DTSTAMP:20260420T050343
CREATED:20190912T193921Z
LAST-MODIFIED:20190912T193921Z
UID:4498-1568793600-1568797200@www.echo-chicago.org
SUMMARY:Women’s Health: A Multidisciplinary Approach to Complex Care
DESCRIPTION:
URL:https://www.echo-chicago.org/event/womens-health-a-multidisciplinary-approach-to-complex-care/
CATEGORIES:Series Launches,Women’s Health: Practical Care Including Menopause
END:VEVENT
BEGIN:VEVENT
DTSTART;TZID=America/Chicago:20190918T080000
DTEND;TZID=America/Chicago:20190918T090000
DTSTAMP:20260420T050343
CREATED:20190807T195706Z
LAST-MODIFIED:20190912T193535Z
UID:4259-1568793600-1568797200@www.echo-chicago.org
SUMMARY:Women’s Health: A Multidisciplinary Approach to Complex Care
DESCRIPTION:
URL:https://www.echo-chicago.org/event/womens-health-2/2019-09-18/
CATEGORIES:Women’s Health: Practical Care Including Menopause
END:VEVENT
BEGIN:VEVENT
DTSTART;TZID=America/Chicago:20190109T080000
DTEND;TZID=America/Chicago:20190109T090000
DTSTAMP:20260420T050343
CREATED:20181120T155452Z
LAST-MODIFIED:20181120T155452Z
UID:2593-1547020800-1547024400@www.echo-chicago.org
SUMMARY:Risk-Based Approach to Women's Healthcare
DESCRIPTION:
URL:https://www.echo-chicago.org/event/risk-based-approach-to-womens-healthcare-2018-06-20-2/
CATEGORIES:Series Launches,Women’s Health: Practical Care Including Menopause
END:VEVENT
BEGIN:VEVENT
DTSTART;TZID=America/Chicago:20190109T080000
DTEND;TZID=America/Chicago:20190109T090000
DTSTAMP:20260420T050343
CREATED:20180614T194852Z
LAST-MODIFIED:20181120T155359Z
UID:189-1547020800-1547024400@www.echo-chicago.org
SUMMARY:Risk-Based Approach to Women's Healthcare
DESCRIPTION:
URL:https://www.echo-chicago.org/event/risk-based-approach-to-womens-healthcare-2018-06-20/2019-01-09/
CATEGORIES:Women’s Health: Practical Care Including Menopause
END:VEVENT
END:VCALENDAR